BEGIN:VCALENDAR
VERSION:2.0
PRODID:-//American Translators Association (ATA) - ECPv5.7.0//NONSGML v1.0//EN
CALSCALE:GREGORIAN
METHOD:PUBLISH
X-WR-CALNAME:American Translators Association (ATA)
X-ORIGINAL-URL:https://www.atanet.org
X-WR-CALDESC:Events for American Translators Association (ATA)
BEGIN:VTIMEZONE
TZID:America/Chicago
BEGIN:DAYLIGHT
TZOFFSETFROM:-0600
TZOFFSETTO:-0500
TZNAME:CDT
DTSTART:20210314T080000
END:DAYLIGHT
BEGIN:STANDARD
TZOFFSETFROM:-0500
TZOFFSETTO:-0600
TZNAME:CST
DTSTART:20211107T070000
END:STANDARD
END:VTIMEZONE
BEGIN:VEVENT
DTSTART;TZID=America/Chicago:20210918T093000
DTEND;TZID=America/Chicago:20210918T123000
DTSTAMP:20210629T133955
CREATED:20210402T150808Z
LAST-MODIFIED:20210603T134000Z
UID:18517-1631957400-1631968200@www.atanet.org
SUMMARY:Certification Exam: In-Person
DESCRIPTION:You must be a member of ATA to register for an exam. Join ATA today. \nAll exam sittings have a maximum capacity and registrations are accepted on a first-come\, first-served basis. There are no waitlists for sold-out exams\, but a sold-out exam may become available if there are cancellations. Check Exam Status to see if this exam is sold out or open. \nRegistration Deadline: September 3\, 2021 \n  \nImportant Requirements\nThere are specific software and hardware requirements for the in-person and online exams. Before you register\, make sure you have everything you need and you know what to expect. See all requirements and restrictions. \n  \nATA Members\nThe exam registration fee is $525. You can register online\, by mail\, or by fax.\nRegister Now \n  \nNon-Members\nYou must be a member of ATA to register for an exam. Exams sell out quickly and there is no guarantee exam space will be available by the time your membership is processed. ATA membership is not refundable.\nJoin ATA
URL:https://www.atanet.org/event/certification-exam/
LOCATION:Houston\, TX\, Houston\, TX\, 77042\, United States
CATEGORIES:Certification Exam
ATTACH;FMTTYPE=image/jpeg:https://www.atanet.org/wp-content/uploads/2017/09/Translation-SO2017.jpg
ORGANIZER;CN="American%20Translators%20Association":MAILTO:ata@atanet.org
END:VEVENT
END:VCALENDAR