BEGIN:VCALENDAR
VERSION:2.0
PRODID:-//American Translators Association (ATA) - ECPv6.15.16.1//NONSGML v1.0//EN
CALSCALE:GREGORIAN
METHOD:PUBLISH
X-WR-CALNAME:American Translators Association (ATA)
X-ORIGINAL-URL:https://www.atanet.org
X-WR-CALDESC:Events for American Translators Association (ATA)
REFRESH-INTERVAL;VALUE=DURATION:PT1H
X-Robots-Tag:noindex
X-PUBLISHED-TTL:PT1H
BEGIN:VTIMEZONE
TZID:America/New_York
BEGIN:DAYLIGHT
TZOFFSETFROM:-0500
TZOFFSETTO:-0400
TZNAME:EDT
DTSTART:20200308T070000
END:DAYLIGHT
BEGIN:STANDARD
TZOFFSETFROM:-0400
TZOFFSETTO:-0500
TZNAME:EST
DTSTART:20201101T060000
END:STANDARD
BEGIN:DAYLIGHT
TZOFFSETFROM:-0500
TZOFFSETTO:-0400
TZNAME:EDT
DTSTART:20210314T070000
END:DAYLIGHT
BEGIN:STANDARD
TZOFFSETFROM:-0400
TZOFFSETTO:-0500
TZNAME:EST
DTSTART:20211107T060000
END:STANDARD
BEGIN:DAYLIGHT
TZOFFSETFROM:-0500
TZOFFSETTO:-0400
TZNAME:EDT
DTSTART:20220313T070000
END:DAYLIGHT
BEGIN:STANDARD
TZOFFSETFROM:-0400
TZOFFSETTO:-0500
TZNAME:EST
DTSTART:20221106T060000
END:STANDARD
END:VTIMEZONE
BEGIN:VEVENT
DTSTART;VALUE=DATE:20210224
DTEND;VALUE=DATE:20210225
DTSTAMP:20260424T190138
CREATED:20210209T190448Z
LAST-MODIFIED:20250311T194418Z
UID:17741-1614124800-1614211199@www.atanet.org
SUMMARY:Closed-Captioning and SDH: An Introduction
DESCRIPTION:This webinar will describe and compare the techniques of closed-captioning and subtitles for the deaf and hard-of-hearing\, both tasks that can offer entry into the audiovisual translation industry. Presenter Mara Campbell will cover roll-up captions and pop-on captions with and without placement\, as well as the pros and cons of available freeware and professional software. \nWhat will you learn?\n\nAn understanding of what Closed Captioning and SDH are and what producing them entails\nHow similar and different Closed Captions and SDH are and the different audiences they serve\nAn understanding of the different types of Closed Captions and SDH and the industry standards captioners are expected to produce\nThe many freeware and professional software available to perform these tasks\nTo identify if they are qualified\, capable and/or willing to learn how to perform these tasks professionally\n \n\n  \nAbout the Presenter\nMara Campbell is an Argentine ATA-certified translator (English-Spanish)\, and has been subtitling\, closed captioning\, translating subtitles and scripts for dubbing for the past 20 years. She worked as a translator\, subtitler/captioner\, trainer\, and team leader in several of the most important companies of Argentina and the USA. She is currently COO of True Subtitles\, the company she founded in 2005\, that has clients in Argentina\, Europe\, and the USA. Her work has been seen on the screens of Netflix\, Amazon\, Hulu\, HBO\, Fox\, BBC\, the Discovery Networks\, and many more\, as well as countless DVD editions of movies and shows. She teaches courses on subtitling and Latin American Neutral Spanish\, speaks at international conferences\, and is a founding member of the Audiovisual Division of the ATA.
URL:https://www.atanet.org/event/closed-captioning-and-sdh-an-introduction/
CATEGORIES:Grow Your Career,Specialization
ORGANIZER;CN="American Translators Association":MAILTO:ata@atanet.org
END:VEVENT
END:VCALENDAR