BEGIN:VCALENDAR
VERSION:2.0
PRODID:-//American Translators Association (ATA) - ECPv6.15.16.1//NONSGML v1.0//EN
CALSCALE:GREGORIAN
METHOD:PUBLISH
X-WR-CALNAME:American Translators Association (ATA)
X-ORIGINAL-URL:https://www.atanet.org
X-WR-CALDESC:Events for American Translators Association (ATA)
REFRESH-INTERVAL;VALUE=DURATION:PT1H
X-Robots-Tag:noindex
X-PUBLISHED-TTL:PT1H
BEGIN:VTIMEZONE
TZID:America/New_York
BEGIN:DAYLIGHT
TZOFFSETFROM:-0500
TZOFFSETTO:-0400
TZNAME:EDT
DTSTART:20200308T070000
END:DAYLIGHT
BEGIN:STANDARD
TZOFFSETFROM:-0400
TZOFFSETTO:-0500
TZNAME:EST
DTSTART:20201101T060000
END:STANDARD
BEGIN:DAYLIGHT
TZOFFSETFROM:-0500
TZOFFSETTO:-0400
TZNAME:EDT
DTSTART:20210314T070000
END:DAYLIGHT
BEGIN:STANDARD
TZOFFSETFROM:-0400
TZOFFSETTO:-0500
TZNAME:EST
DTSTART:20211107T060000
END:STANDARD
BEGIN:DAYLIGHT
TZOFFSETFROM:-0500
TZOFFSETTO:-0400
TZNAME:EDT
DTSTART:20220313T070000
END:DAYLIGHT
BEGIN:STANDARD
TZOFFSETFROM:-0400
TZOFFSETTO:-0500
TZNAME:EST
DTSTART:20221106T060000
END:STANDARD
END:VTIMEZONE
BEGIN:VEVENT
DTSTART;VALUE=DATE:20210804
DTEND;VALUE=DATE:20210805
DTSTAMP:20260424T163405
CREATED:20210625T160603Z
LAST-MODIFIED:20250311T194417Z
UID:19533-1628035200-1628121599@www.atanet.org
SUMMARY:Does Your English Match Your Suit? How to Reflect a More Professional Image
DESCRIPTION:Learn to say what you mean with precision to reflect a more professional image to your clients.\nInterpreters and translators strive to become balanced bilinguals but often fall short in one language or the other due to common errors in written and oral expression and pronunciation. \nEnglish is the language of business in the United States\, and clear and concise communication is crucial for successful relationships with clients. \nJoin this webinar to learn how to overcome common pitfalls in the Spanish<>English language pair. You will tackle exercises designed to improve both written and spoken English by removing unnecessary words and confusing verbal clutter. \nYou will also learn easy techniques to overcome problematic pronunciation in English through a series of drills\, focusing on proper vocal expression\, pronunciation\, and articulation. \nIn this fast-paced\, high-energy webinar\, the presenter will help you speak and write more clearly. You will feel more professional and confident the next time you put on your business suit for a client meeting or interpreting assignment. \nWhat will you learn?\n\nHow to eliminate word waste and verbal clutter\nHow to minimize common errors for better communication skills\nHow to apply tried-and-true tricks to overcome pesky pronunciation in English\nHow to polish vocal expression\, intonation\, and articulation\nHow to stand out as a true language professional\n\nThis webinar was organized in collaboration with ATA’s Spanish Language Division. \nAbout the Presenter\nKaren Borgenheimer\, MFA\, is a classically trained\, certified interpreter and translator. She is regarded as a skilled\, insightful\, and versatile professional who is equally comfortable in the classroom\, courtroom\, or international conference. Karen obtained a Master of Fine Arts degree in Translation Studies from the University of Arkansas\, Fayetteville. She also completed doctoral coursework in Spanish Language and Linguistics at the University of Wisconsin\, Madison. For nearly a decade\, Karen lived in San Lorenzo de El Escorial (Madrid)\, Spain where she taught at the Real Centro Universitario (RCU) “Maria Cristina.” During this time\, she attended the prestigious Sampere Escuela de Traductores e Intérpretes in Madrid. Upon return to the U.S.\, she studied Court and Conference Interpreting at Florida International University (FIU) in Miami.
URL:https://www.atanet.org/event/does-your-english-match-your-suit/
CATEGORIES:Interpreting
ATTACH;FMTTYPE=image/jpeg:https://www.atanet.org/wp-content/uploads/2021/06/business-meeting-5395567_1920.jpg
ORGANIZER;CN="American Translators Association":MAILTO:ata@atanet.org
END:VEVENT
END:VCALENDAR