BEGIN:VCALENDAR
VERSION:2.0
PRODID:-//American Translators Association (ATA) - ECPv5.7.0//NONSGML v1.0//EN
CALSCALE:GREGORIAN
METHOD:PUBLISH
X-WR-CALNAME:American Translators Association (ATA)
X-ORIGINAL-URL:https://www.atanet.org
X-WR-CALDESC:Events for American Translators Association (ATA)
BEGIN:VTIMEZONE
TZID:America/New_York
BEGIN:DAYLIGHT
TZOFFSETFROM:-0500
TZOFFSETTO:-0400
TZNAME:EDT
DTSTART:20210314T070000
END:DAYLIGHT
BEGIN:STANDARD
TZOFFSETFROM:-0400
TZOFFSETTO:-0500
TZNAME:EST
DTSTART:20211107T060000
END:STANDARD
END:VTIMEZONE
BEGIN:VEVENT
DTSTART;VALUE=DATE:20210406
DTEND;VALUE=DATE:20210407
DTSTAMP:20210625T070603
CREATED:20210308T173935Z
LAST-MODIFIED:20210429T010205Z
UID:18154-1617667200-1617753599@www.atanet.org
SUMMARY:Personal Branding Basics
DESCRIPTION:Developing a personal brand is a classic “work smarter\, not harder” technique. When done well\, it will showcase your specific expertise and skill set\, bringing focus to your marketing and targeting your ideal clients. Far more than a logo or a slogan\, your personal brand will tell your story\, from who you are and what you do to why you are the right person for the job. \nFree to ATA members! Attend this webinar to learn how to build your own personal brand. \nWhat will you learn?\n\nThe essential characteristics of a personal brand\nWhy and how a personal brand works\nThe building blocks that make up a brand\nWhat goes into creating a personal brand statement\nFirst steps to take in developing your brand\n\nAbout the presenter\nBen Karl is a French> and Mandarin>English translator and copywriter based in Los Angeles. He specializes in commercial\, financial\, and marketing texts. Ben is ATA-certified (French>English). He currently serves on ATA’s Membership Committee and chairs the Translatio Standing Committee for the International Federation of Translators.
URL:https://www.atanet.org/event/personal-branding-basics/
CATEGORIES:Business Strategies,Free for Members
ATTACH;FMTTYPE=image/jpeg:https://www.atanet.org/wp-content/uploads/2021/03/doors-1690423_1920.jpg
ORGANIZER;CN="American%20Translators%20Association":MAILTO:ata@atanet.org
END:VEVENT
END:VCALENDAR