BEGIN:VCALENDAR
VERSION:2.0
PRODID:-//American Translators Association (ATA) - ECPv5.7.0//NONSGML v1.0//EN
CALSCALE:GREGORIAN
METHOD:PUBLISH
X-WR-CALNAME:American Translators Association (ATA)
X-ORIGINAL-URL:https://www.atanet.org
X-WR-CALDESC:Events for American Translators Association (ATA)
BEGIN:VTIMEZONE
TZID:America/New_York
BEGIN:DAYLIGHT
TZOFFSETFROM:-0500
TZOFFSETTO:-0400
TZNAME:EDT
DTSTART:20180311T070000
END:DAYLIGHT
BEGIN:STANDARD
TZOFFSETFROM:-0400
TZOFFSETTO:-0500
TZNAME:EST
DTSTART:20181104T060000
END:STANDARD
END:VTIMEZONE
BEGIN:VEVENT
DTSTART;VALUE=DATE:20180418
DTEND;VALUE=DATE:20180419
DTSTAMP:20210625T041313
CREATED:20201009T193602Z
LAST-MODIFIED:20210124T163221Z
UID:6521-1524009600-1524095999@www.atanet.org
SUMMARY:Volunteering: Making Your Investment of Time Worthwhile
DESCRIPTION:Do you ever wonder why people volunteer? Or how they find the time?\nUsing her own experience\, presenter Jamie Hartz will show attendees how volunteering has shaped her career as a translator. Key to her presentation is how to find the right fit for your time and talent. Managing commitments and expectations is the final piece of the puzzle in making it all work. \nWhat Will You Learn?\n\nWhere to look for volunteer opportunities\nHow to make sure your volunteer time is worth it\nWhen and how to say no\nBalancing your time between volunteering and paid work\nHow to make volunteering a fulfilling lifestyle habit\n\nWatch free webinar now\n \nAbout the Presenter\nJamie Hartz is an ATA-certified Spanish>English translator\, transcriber\, and editor. She has been freelancing since 2013\, specializing in legal and commercial translations. \nJamie completed an M.A. in Translation (Spanish) at Kent State University in May 2015. During the two-year degree\, she worked part-time as a freelancer and part-time as a project manager at a language services provider. In June 2015\, Jamie launched her business as a full-time as a freelancer. \nCurrently\, Jamie serves as Secretary of her local ATA chapter\, the Delaware Valley Translators Association\, and has been a member of the The Savvy Newcomer blogging team since its inception in 2013.
URL:https://www.atanet.org/event/volunteering-making-your-investment-of-time-worthwhile/
CATEGORIES:Free for Members,Grow Your Career
ORGANIZER;CN="American%20Translators%20Association":MAILTO:ata@atanet.org
END:VEVENT
END:VCALENDAR