BEGIN:VCALENDAR
VERSION:2.0
PRODID:-//American Translators Association (ATA) - ECPv5.7.0//NONSGML v1.0//EN
CALSCALE:GREGORIAN
METHOD:PUBLISH
X-WR-CALNAME:American Translators Association (ATA)
X-ORIGINAL-URL:https://www.atanet.org
X-WR-CALDESC:Events for American Translators Association (ATA)
BEGIN:VTIMEZONE
TZID:America/New_York
BEGIN:DAYLIGHT
TZOFFSETFROM:-0500
TZOFFSETTO:-0400
TZNAME:EDT
DTSTART:20210314T070000
END:DAYLIGHT
BEGIN:STANDARD
TZOFFSETFROM:-0400
TZOFFSETTO:-0500
TZNAME:EST
DTSTART:20211107T060000
END:STANDARD
END:VTIMEZONE
BEGIN:VEVENT
DTSTART;VALUE=DATE:20210501
DTEND;VALUE=DATE:20210601
DTSTAMP:20210724T194336
CREATED:20210324T185942Z
LAST-MODIFIED:20210324T185942Z
UID:18408-1619827200-1622505599@www.atanet.org
SUMMARY:Dynamo\, Mentoring\, and Rising Star Awards: Open for Submissions
DESCRIPTION:ATA presents annual and biennial awards to encourage\, reward\, and publicize outstanding work done by both seasoned professionals and students of our craft. Learn more about these awards and how to submit a nomination for yourself or someone else. \n\nDynamo Award\nMentoring Award\nRising Star Award
URL:https://www.atanet.org/event/dynamo-mentoring-and-rising-star-awards-open-for-submissions/2021-05-01/
CATEGORIES:ATA Membership
ATTACH;FMTTYPE=image/jpeg:https://www.atanet.org/wp-content/uploads/2020/01/AFTI_2-scaled-1.jpg
ORGANIZER;CN="American%20Translators%20Association":MAILTO:ata@atanet.org
END:VEVENT
BEGIN:VEVENT
DTSTART;VALUE=DATE:20210514
DTEND;VALUE=DATE:20210517
DTSTAMP:20210724T194336
CREATED:20210112T182158Z
LAST-MODIFIED:20210710T191220Z
UID:17297-1620950400-1621209599@www.atanet.org
SUMMARY:NAJIT 42nd Annual Conference
DESCRIPTION:As a service to members\, ATA provides information about non-ATA events that serve the translation and interpreting community. Inclusion in ATA’s event calendar does not imply affiliation with or endorsement by ATA. \nClick the button below for details about this event.
URL:https://www.atanet.org/event/najit-42nd-annual-conference/
END:VEVENT
END:VCALENDAR