BEGIN:VCALENDAR
VERSION:2.0
PRODID:-//American Translators Association (ATA) - ECPv6.15.16.1//NONSGML v1.0//EN
CALSCALE:GREGORIAN
METHOD:PUBLISH
X-WR-CALNAME:American Translators Association (ATA)
X-ORIGINAL-URL:https://www.atanet.org
X-WR-CALDESC:Events for American Translators Association (ATA)
REFRESH-INTERVAL;VALUE=DURATION:PT1H
X-Robots-Tag:noindex
X-PUBLISHED-TTL:PT1H
BEGIN:VTIMEZONE
TZID:America/New_York
BEGIN:DAYLIGHT
TZOFFSETFROM:-0500
TZOFFSETTO:-0400
TZNAME:EDT
DTSTART:20220313T070000
END:DAYLIGHT
BEGIN:STANDARD
TZOFFSETFROM:-0400
TZOFFSETTO:-0500
TZNAME:EST
DTSTART:20221106T060000
END:STANDARD
BEGIN:DAYLIGHT
TZOFFSETFROM:-0500
TZOFFSETTO:-0400
TZNAME:EDT
DTSTART:20230312T070000
END:DAYLIGHT
BEGIN:STANDARD
TZOFFSETFROM:-0400
TZOFFSETTO:-0500
TZNAME:EST
DTSTART:20231105T060000
END:STANDARD
BEGIN:DAYLIGHT
TZOFFSETFROM:-0500
TZOFFSETTO:-0400
TZNAME:EDT
DTSTART:20240310T070000
END:DAYLIGHT
BEGIN:STANDARD
TZOFFSETFROM:-0400
TZOFFSETTO:-0500
TZNAME:EST
DTSTART:20241103T060000
END:STANDARD
BEGIN:DAYLIGHT
TZOFFSETFROM:-0500
TZOFFSETTO:-0400
TZNAME:EDT
DTSTART:20250309T070000
END:DAYLIGHT
BEGIN:STANDARD
TZOFFSETFROM:-0400
TZOFFSETTO:-0500
TZNAME:EST
DTSTART:20251102T060000
END:STANDARD
BEGIN:DAYLIGHT
TZOFFSETFROM:-0500
TZOFFSETTO:-0400
TZNAME:EDT
DTSTART:20260308T070000
END:DAYLIGHT
BEGIN:STANDARD
TZOFFSETFROM:-0400
TZOFFSETTO:-0500
TZNAME:EST
DTSTART:20261101T060000
END:STANDARD
BEGIN:DAYLIGHT
TZOFFSETFROM:-0500
TZOFFSETTO:-0400
TZNAME:EDT
DTSTART:20270314T070000
END:DAYLIGHT
BEGIN:STANDARD
TZOFFSETFROM:-0400
TZOFFSETTO:-0500
TZNAME:EST
DTSTART:20271107T060000
END:STANDARD
END:VTIMEZONE
BEGIN:VEVENT
DTSTART;TZID=America/New_York:20260228T120000
DTEND;TZID=America/New_York:20260228T130000
DTSTAMP:20260425T095626
CREATED:20260126T221310Z
LAST-MODIFIED:20260126T221310Z
UID:55023-1772280000-1772283600@www.atanet.org
SUMMARY:SciTech Division Networking Hour
DESCRIPTION:Join the Science & Technology Division for an hour of networking. This will be an informal meetup with non-recorded\, small-group conversations where we share experiences and ideas based on an optional prompt. Don’t miss this opportunity to meet like-minded individuals\, both introverts and extroverts\, learn from each other\, share stories\, make new connections\, or just say hello.
URL:https://www.atanet.org/event/scitech-division-networking-hour-4/
CATEGORIES:Free for Members,Networking,Specialization
ATTACH;FMTTYPE=image/png:https://www.atanet.org/wp-content/uploads/2025/01/logo-std-science-and-technology-division-e1747064459766.png
ORGANIZER;CN="Science & Technology Division":MAILTO:divisionS_TD@atanet.org
END:VEVENT
BEGIN:VEVENT
DTSTART;TZID=America/New_York:20250412T120000
DTEND;TZID=America/New_York:20250412T130000
DTSTAMP:20260425T095626
CREATED:20250319T160204Z
LAST-MODIFIED:20251117T152436Z
UID:50038-1744459200-1744462800@www.atanet.org
SUMMARY:SciTech Division Networking Hour
DESCRIPTION:Join the Science & Technology Division for an hour of networking\, hosted by Haidar Al-Sara. This will be an informal meetup with non-recorded\, small-group conversations where we share experiences and ideas based on an optional prompt. \nDon’t miss this opportunity to meet like-minded individuals\, both introverts and extroverts\, learn from each other\, share stories\, make new connections\, or just say hello.
URL:https://www.atanet.org/event/scitech-division-networking-hour-3/
CATEGORIES:Free for Members,Networking
ATTACH;FMTTYPE=image/png:https://www.atanet.org/wp-content/uploads/2025/01/logo-std-science-and-technology-division-e1747064459766.png
ORGANIZER;CN="Science & Technology Division":MAILTO:divisionS_TD@atanet.org
END:VEVENT
BEGIN:VEVENT
DTSTART;TZID=America/New_York:20250124T110000
DTEND;TZID=America/New_York:20250124T120000
DTSTAMP:20260425T095626
CREATED:20250122T150120Z
LAST-MODIFIED:20251117T152437Z
UID:48548-1737716400-1737720000@www.atanet.org
SUMMARY:SciTech Division Networking Hour
DESCRIPTION:Join the Science & Technology Division for an hour of networking\, hosted by Valeria Verona. This will be an informal meetup with non-recorded\, small-group conversations where we share experiences and ideas. Don’t miss this opportunity to meet like-minded individuals\, both introverts and extroverts\, learn from each other\, share stories\, make new connections\, or just say hello. \nThis event is for S&TD members only and registration is required.  \nPlease send your email to ATASciTechevents@gmail.com.
URL:https://www.atanet.org/event/scitech-division-networking-hour-2/
CATEGORIES:Free for Members,Grow Your Career
ATTACH;FMTTYPE=image/png:https://www.atanet.org/wp-content/uploads/2025/01/logo-std-science-and-technology-division-e1747064459766.png
ORGANIZER;CN="Science & Technology Division":MAILTO:divisionS_TD@atanet.org
END:VEVENT
BEGIN:VEVENT
DTSTART;TZID=America/New_York:20240503T120000
DTEND;TZID=America/New_York:20240503T130000
DTSTAMP:20260425T095626
CREATED:20240404T165826Z
LAST-MODIFIED:20251117T152437Z
UID:30833-1714737600-1714741200@www.atanet.org
SUMMARY:Science & Technology Division Networking Hour
DESCRIPTION:Join the Science & Technology Division for an informal\, non-recorded meetup where we share experiences and ideas in small groups based on an optional prompt. Don’t miss this opportunity to meet like-minded individuals\, both introverts and extroverts\, and learn from each other\, share stories\, make new connections\, or just say hello. \nSend your RSVP to atascitechevents@gmail.com to receive a zoom link . \nThis event is for Science & Technology Division members only. \nQuestions? Contact Mery Molenaar\, Division Administrator at divisionS_TD@atanet.org.
URL:https://www.atanet.org/event/science-technology-division-networking-hour-may-2024/
CATEGORIES:Free for Members,Networking,Specialization
ATTACH;FMTTYPE=image/png:https://www.atanet.org/wp-content/uploads/2025/01/logo-std-science-and-technology-division-e1747064459766.png
ORGANIZER;CN="Science & Technology Division":MAILTO:divisionS_TD@atanet.org
END:VEVENT
BEGIN:VEVENT
DTSTART;TZID=America/New_York:20240131T120000
DTEND;TZID=America/New_York:20240131T130000
DTSTAMP:20260425T095626
CREATED:20240117T222431Z
LAST-MODIFIED:20251117T152438Z
UID:29948-1706702400-1706706000@www.atanet.org
SUMMARY:SciTech Division Networking Hour
DESCRIPTION:Join the Science & Technology Division (S&TD) for an hour of networking. This will be an informal meetup with non-recorded\, small-group conversations where we share experiences and ideas based on an optional prompt. Don’t miss this opportunity to meet like-minded individuals\, both introverts and extroverts\, learn from each other\, share stories\, make new connections\, or just say hello. This event is for S&TD members only. Please send your RSVP to atascitechevents@gmail.com to receive a Zoom link. \nContact Mery Molenaar for any questions.
URL:https://www.atanet.org/event/scitech-division-networking-hour/
CATEGORIES:Free for Members,Networking,Specialization
ORGANIZER;CN="Science & Technology Division":MAILTO:divisionS_TD@atanet.org
END:VEVENT
BEGIN:VEVENT
DTSTART;TZID=America/New_York:20231129T120000
DTEND;TZID=America/New_York:20231129T120000
DTSTAMP:20260425T095626
CREATED:20231116T195138Z
LAST-MODIFIED:20251117T152438Z
UID:29087-1701259200-1701259200@www.atanet.org
SUMMARY:S&TD Networking Hour
DESCRIPTION:Join the Science & Technology Division’s upcoming networking hour on November 29\, 2023 to make new connections\, share stories\, learn from each other or just say hello. \nOur networking events are casual\, non-recorded meetups with like-minded individuals\, both introverts and extroverts\, where we share experiences and ideas in small groups based on an optional prompt. \nThis event is for Science & Technology Division members only and registration is required.
URL:https://www.atanet.org/event/std-networking-hour/
CATEGORIES:Free for Members
ORGANIZER;CN="Science & Technology Division":MAILTO:divisionS_TD@atanet.org
END:VEVENT
END:VCALENDAR