BEGIN:VCALENDAR
VERSION:2.0
PRODID:-//American Translators Association (ATA) - ECPv6.15.16.1//NONSGML v1.0//EN
CALSCALE:GREGORIAN
METHOD:PUBLISH
X-ORIGINAL-URL:https://www.atanet.org
X-WR-CALDESC:Events for American Translators Association (ATA)
REFRESH-INTERVAL;VALUE=DURATION:PT1H
X-Robots-Tag:noindex
X-PUBLISHED-TTL:PT1H
BEGIN:VTIMEZONE
TZID:America/New_York
BEGIN:DAYLIGHT
TZOFFSETFROM:-0500
TZOFFSETTO:-0400
TZNAME:EDT
DTSTART:20250309T070000
END:DAYLIGHT
BEGIN:STANDARD
TZOFFSETFROM:-0400
TZOFFSETTO:-0500
TZNAME:EST
DTSTART:20251102T060000
END:STANDARD
BEGIN:DAYLIGHT
TZOFFSETFROM:-0500
TZOFFSETTO:-0400
TZNAME:EDT
DTSTART:20260308T070000
END:DAYLIGHT
BEGIN:STANDARD
TZOFFSETFROM:-0400
TZOFFSETTO:-0500
TZNAME:EST
DTSTART:20261101T060000
END:STANDARD
BEGIN:DAYLIGHT
TZOFFSETFROM:-0500
TZOFFSETTO:-0400
TZNAME:EDT
DTSTART:20270314T070000
END:DAYLIGHT
BEGIN:STANDARD
TZOFFSETFROM:-0400
TZOFFSETTO:-0500
TZNAME:EST
DTSTART:20271107T060000
END:STANDARD
END:VTIMEZONE
BEGIN:VEVENT
DTSTART;TZID=America/New_York:20260307T120000
DTEND;TZID=America/New_York:20260307T140000
DTSTAMP:20260424T234924
CREATED:20260211T155351Z
LAST-MODIFIED:20260211T155351Z
UID:55305-1772884800-1772892000@www.atanet.org
SUMMARY:SLD March Networking Event
DESCRIPTION:The Slavic Languages Division invites you to the upcoming quarterly gathering on Zoom. Come chat with SLD colleagues about what’s going on in life and in business. The past meetups have offered members a valuable chance to catch up with each other. We hope that this one will give attendees a sense of connection and motivation going forward.
URL:https://www.atanet.org/event/sld-march-networking-event/
CATEGORIES:Free for Members,Networking
ATTACH;FMTTYPE=image/png:https://www.atanet.org/wp-content/uploads/2026/02/logo-sld-slavic-languages-division-scaled-e1774823630705.png
ORGANIZER;CN="Slavic Languages Division":MAILTO:divisionSLD@atanet.org
END:VEVENT
END:VCALENDAR